Workbook

Sheet カレンダー
A1: 日付 | B1: 曜日 | C1: 祝日名 | G1: 年・月を変更して使う
A2: =DATE($H$2,$H$3,1) | B2: =IF(A2="","",TEXT(A2,"aaa")) | C2: =IF(A2="","",IFERROR(VLOOKUP($A2,祝日!$A:$B,2,FALSE),"")) | G2: 年 | H2: 2027
A3: =IF(A2="","",IF(MONTH(A2+1)=MONTH($A$2),A2+1,"")) | B3: =IF(A3="","",TEXT(A3,"aaa")) | C3: =IF(A3="","",IFERROR(VLOOKUP($A3,祝日!$A:$B,2,FALSE),"")) | G3: 月 | H3: 1
A4: =IF(A3="","",IF(MONTH(A3+1)=MONTH($A$2),A3+1,"")) | B4: =IF(A4="","",TEXT(A4,"aaa")) | C4: =IF(A4="","",IFERROR(VLOOKUP($A4,祝日!$A:$B,2,FALSE),""))
A5: =IF(A4="","",IF(MONTH(A4+1)=MONTH($A$2),A4+1,"")) | B5: =IF(A5="","",TEXT(A5,"aaa")) | C5: =IF(A5="","",IFERROR(VLOOKUP($A5,祝日!$A:$B,2,FALSE),"")) | G5: 開始日 | H5: =A2
A6: =IF(A5="","",IF(MONTH(A5+1)=MONTH($A$2),A5+1,"")) | B6: =IF(A6="","",TEXT(A6,"aaa")) | C6: =IF(A6="","",IFERROR(VLOOKUP($A6,祝日!$A:$B,2,FALSE),"")) | G6: 営業日数 | H6: 5
A7: =IF(A6="","",IF(MONTH(A6+1)=MONTH($A$2),A6+1,"")) | B7: =IF(A7="","",TEXT(A7,"aaa")) | C7: =IF(A7="","",IFERROR(VLOOKUP($A7,祝日!$A:$B,2,FALSE),"")) | G7: 指定営業日後 | H7: =WORKDAY(H5,H6,祝日!$A$2:$A$3000)
A8: =IF(A7="","",IF(MONTH(A7+1)=MONTH($A$2),A7+1,"")) | B8: =IF(A8="","",TEXT(A8,"aaa")) | C8: =IF(A8="","",IFERROR(VLOOKUP($A8,祝日!$A:$B,2,FALSE),"")) | G8: 月内の営業日数 | H8: =NETWORKDAYS(A2,DATE(H2,H3+1,0),祝日!$A$2:$A$3000)
A9: =IF(A8="","",IF(MONTH(A8+1)=MONTH($A$2),A8+1,"")) | B9: =IF(A9="","",TEXT(A9,"aaa")) | C9: =IF(A9="","",IFERROR(VLOOKUP($A9,祝日!$A:$B,2,FALSE),"")) | G9: 日曜だけ休む場合 | H9: =WORKDAY.INTL(H5,H6,11,祝日!$A$2:$A$3000)
A10: =IF(A9="","",IF(MONTH(A9+1)=MONTH($A$2),A9+1,"")) | B10: =IF(A10="","",TEXT(A10,"aaa")) | C10: =IF(A10="","",IFERROR(VLOOKUP($A10,祝日!$A:$B,2,FALSE),""))
A11: =IF(A10="","",IF(MONTH(A10+1)=MONTH($A$2),A10+1,"")) | B11: =IF(A11="","",TEXT(A11,"aaa")) | C11: =IF(A11="","",IFERROR(VLOOKUP($A11,祝日!$A:$B,2,FALSE),""))
A12: =IF(A11="","",IF(MONTH(A11+1)=MONTH($A$2),A11+1,"")) | B12: =IF(A12="","",TEXT(A12,"aaa")) | C12: =IF(A12="","",IFERROR(VLOOKUP($A12,祝日!$A:$B,2,FALSE),"")) | G12: 青いセル：入力欄（年・月・営業日数）
A13: =IF(A12="","",IF(MONTH(A12+1)=MONTH($A$2),A12+1,"")) | B13: =IF(A13="","",TEXT(A13,"aaa")) | C13: =IF(A13="","",IFERROR(VLOOKUP($A13,祝日!$A:$B,2,FALSE),""))
A14: =IF(A13="","",IF(MONTH(A13+1)=MONTH($A$2),A13+1,"")) | B14: =IF(A14="","",TEXT(A14,"aaa")) | C14: =IF(A14="","",IFERROR(VLOOKUP($A14,祝日!$A:$B,2,FALSE),"")) | G14: 赤：日曜・祝日／青：土曜。祝日の色を優先。
A15: =IF(A14="","",IF(MONTH(A14+1)=MONTH($A$2),A14+1,"")) | B15: =IF(A15="","",TEXT(A15,"aaa")) | C15: =IF(A15="","",IFERROR(VLOOKUP($A15,祝日!$A:$B,2,FALSE),""))
A16: =IF(A15="","",IF(MONTH(A15+1)=MONTH($A$2),A15+1,"")) | B16: =IF(A16="","",TEXT(A16,"aaa")) | C16: =IF(A16="","",IFERROR(VLOOKUP($A16,祝日!$A:$B,2,FALSE),"")) | G16: A列は日付の値、B列はTEXT関数の文字列です。
A17: =IF(A16="","",IF(MONTH(A16+1)=MONTH($A$2),A16+1,"")) | B17: =IF(A17="","",TEXT(A17,"aaa")) | C17: =IF(A17="","",IFERROR(VLOOKUP($A17,祝日!$A:$B,2,FALSE),""))
A18: =IF(A17="","",IF(MONTH(A17+1)=MONTH($A$2),A17+1,"")) | B18: =IF(A18="","",TEXT(A18,"aaa")) | C18: =IF(A18="","",IFERROR(VLOOKUP($A18,祝日!$A:$B,2,FALSE),"")) | G18: 元の日付で並べ替え・日数計算を行ってください。
A19: =IF(A18="","",IF(MONTH(A18+1)=MONTH($A$2),A18+1,"")) | B19: =IF(A19="","",TEXT(A19,"aaa")) | C19: =IF(A19="","",IFERROR(VLOOKUP($A19,祝日!$A:$B,2,FALSE),""))
A20: =IF(A19="","",IF(MONTH(A19+1)=MONTH($A$2),A19+1,"")) | B20: =IF(A20="","",TEXT(A20,"aaa")) | C20: =IF(A20="","",IFERROR(VLOOKUP($A20,祝日!$A:$B,2,FALSE),"")) | G20: 使い方：https://bestcalendar.jp/excel/howto
A21: =IF(A20="","",IF(MONTH(A20+1)=MONTH($A$2),A20+1,"")) | B21: =IF(A21="","",TEXT(A21,"aaa")) | C21: =IF(A21="","",IFERROR(VLOOKUP($A21,祝日!$A:$B,2,FALSE),""))
A22: =IF(A21="","",IF(MONTH(A21+1)=MONTH($A$2),A21+1,"")) | B22: =IF(A22="","",TEXT(A22,"aaa")) | C22: =IF(A22="","",IFERROR(VLOOKUP($A22,祝日!$A:$B,2,FALSE),"")) | G22: 祝日：1949〜2080年。将来分は現行制度による計算値。
A23: =IF(A22="","",IF(MONTH(A22+1)=MONTH($A$2),A22+1,"")) | B23: =IF(A23="","",TEXT(A23,"aaa")) | C23: =IF(A23="","",IFERROR(VLOOKUP($A23,祝日!$A:$B,2,FALSE),""))
A24: =IF(A23="","",IF(MONTH(A23+1)=MONTH($A$2),A23+1,"")) | B24: =IF(A24="","",TEXT(A24,"aaa")) | C24: =IF(A24="","",IFERROR(VLOOKUP($A24,祝日!$A:$B,2,FALSE),"")) | G24: 祝日法以外の会社休業日・年末年始は含みません。
A25: =IF(A24="","",IF(MONTH(A24+1)=MONTH($A$2),A24+1,"")) | B25: =IF(A25="","",TEXT(A25,"aaa")) | C25: =IF(A25="","",IFERROR(VLOOKUP($A25,祝日!$A:$B,2,FALSE),""))
A26: =IF(A25="","",IF(MONTH(A25+1)=MONTH($A$2),A25+1,"")) | B26: =IF(A26="","",TEXT(A26,"aaa")) | C26: =IF(A26="","",IFERROR(VLOOKUP($A26,祝日!$A:$B,2,FALSE),""))
A27: =IF(A26="","",IF(MONTH(A26+1)=MONTH($A$2),A26+1,"")) | B27: =IF(A27="","",TEXT(A27,"aaa")) | C27: =IF(A27="","",IFERROR(VLOOKUP($A27,祝日!$A:$B,2,FALSE),""))
A28: =IF(A27="","",IF(MONTH(A27+1)=MONTH($A$2),A27+1,"")) | B28: =IF(A28="","",TEXT(A28,"aaa")) | C28: =IF(A28="","",IFERROR(VLOOKUP($A28,祝日!$A:$B,2,FALSE),""))
A29: =IF(A28="","",IF(MONTH(A28+1)=MONTH($A$2),A28+1,"")) | B29: =IF(A29="","",TEXT(A29,"aaa")) | C29: =IF(A29="","",IFERROR(VLOOKUP($A29,祝日!$A:$B,2,FALSE),""))
A30: =IF(A29="","",IF(MONTH(A29+1)=MONTH($A$2),A29+1,"")) | B30: =IF(A30="","",TEXT(A30,"aaa")) | C30: =IF(A30="","",IFERROR(VLOOKUP($A30,祝日!$A:$B,2,FALSE),""))
A31: =IF(A30="","",IF(MONTH(A30+1)=MONTH($A$2),A30+1,"")) | B31: =IF(A31="","",TEXT(A31,"aaa")) | C31: =IF(A31="","",IFERROR(VLOOKUP($A31,祝日!$A:$B,2,FALSE),""))
A32: =IF(A31="","",IF(MONTH(A31+1)=MONTH($A$2),A31+1,"")) | B32: =IF(A32="","",TEXT(A32,"aaa")) | C32: =IF(A32="","",IFERROR(VLOOKUP($A32,祝日!$A:$B,2,FALSE),""))

Sheet 祝日
A1: 日付 | B1: 祝日名 | D1: 内閣府「国民の祝日について」に準拠
A2: 17899 | B2: 元日 | D2: https://www8.cao.go.jp/chosei/shukujitsu/gaiyou.html
A3: 17913 | B3: 成人の日 | D3: 将来分は現行制度による計算値。法改正・特例等で変更される場合があります。
A4: 17978 | B4: 春分の日
A5: 18017 | B5: 天皇誕生日
A6: 18021 | B6: 憲法記念日
A7: 18023 | B7: こどもの日
A8: 18164 | B8: 秋分の日
A9: 18205 | B9: 文化の日
A10: 18225 | B10: 勤労感謝の日
A11: 18264 | B11: 元日
A12: 18278 | B12: 成人の日
A13: 18343 | B13: 春分の日
A14: 18382 | B14: 天皇誕生日
A15: 18386 | B15: 憲法記念日
... A2070: 66073 | B2070: 勤労感謝の日
